BEGIN:VCALENDAR
VERSION:2.0
PRODID:-//Seed of Hope Yoga - ECPv5.3.2.1//NONSGML v1.0//EN
CALSCALE:GREGORIAN
METHOD:PUBLISH
X-WR-CALNAME:Seed of Hope Yoga
X-ORIGINAL-URL:https://seedofhopeyoga.com.au
X-WR-CALDESC:Events for Seed of Hope Yoga
BEGIN:VTIMEZONE
TZID:Australia/Sydney
BEGIN:STANDARD
TZOFFSETFROM:+1100
TZOFFSETTO:+1000
TZNAME:AEST
DTSTART:20190406T160000
END:STANDARD
BEGIN:DAYLIGHT
TZOFFSETFROM:+1000
TZOFFSETTO:+1100
TZNAME:AEDT
DTSTART:20191005T160000
END:DAYLIGHT
END:VTIMEZONE
BEGIN:VEVENT
DTSTART;TZID=Australia/Sydney:20190928T103000
DTEND;TZID=Australia/Sydney:20190928T130000
DTSTAMP:20210301T000415
CREATED:20190701T044439Z
LAST-MODIFIED:20190701T044439Z
UID:368-1569666600-1569675600@seedofhopeyoga.com.au
SUMMARY:Holding Hope
DESCRIPTION:Yoga and Psycho Education for Chronic Pain \n\nUnderstanding pain and the brain\nHow your breath affects your pain\nImproving mobility through mindful movements\nUsing sound to soothe the nervous system\nEmbracing stillness to reduce pain levels\n\nDate & Time:\nSaturday 28th September\, 10:30am – 1:00pm \nLocation:\nYoga From the Inside\n147 Richmond Street\, Windsor NSW \nCost:\n$65.00 Early Bird (by 13th September 2019)\n$85.00 Full fee \nBookings:\nwww.yogafromtheinside.com.au/offerings
URL:https://seedofhopeyoga.com.au/workshops/holding-hope/
LOCATION:Yoga From the Inside\, 147 Richmond Street\, Windsor\, NSW\, 2756\, Australia
CATEGORIES:Workshops
ATTACH;FMTTYPE=image/png:https://seedofhopeyoga.com.au/wp-content/uploads/2019/07/holding-hope.png
ORGANIZER;CN="Seed%20of%20Hope%20Yoga":MAILTO:info@seedofhopeyoga.com.au
END:VEVENT
END:VCALENDAR