BEGIN:VCALENDAR
VERSION:2.0
PRODID:-//Seed of Hope Yoga - ECPv5.3.2.1//NONSGML v1.0//EN
CALSCALE:GREGORIAN
METHOD:PUBLISH
X-WR-CALNAME:Seed of Hope Yoga
X-ORIGINAL-URL:https://seedofhopeyoga.com.au
X-WR-CALDESC:Events for Seed of Hope Yoga
BEGIN:VTIMEZONE
TZID:Australia/Sydney
BEGIN:STANDARD
TZOFFSETFROM:+1100
TZOFFSETTO:+1000
TZNAME:AEST
DTSTART:20200404T160000
END:STANDARD
BEGIN:DAYLIGHT
TZOFFSETFROM:+1000
TZOFFSETTO:+1100
TZNAME:AEDT
DTSTART:20201003T160000
END:DAYLIGHT
END:VTIMEZONE
BEGIN:VEVENT
DTSTART;TZID=Australia/Sydney:20201014T180000
DTEND;TZID=Australia/Sydney:20201014T190000
DTSTAMP:20210301T001657
CREATED:20200827T035052Z
LAST-MODIFIED:20200903T045114Z
UID:508-1602698400-1602702000@seedofhopeyoga.com.au
SUMMARY:Monthly Masterclass for Chronic Pain
DESCRIPTION:Join me for a catchup monthly online for those living with chronic pain or wanting to learn more about managing chronic pain.\n\nEach month will have a different focus\, but the hour will always involve:\n\nLatest Chronic Pain Research\nPsychoeducation\nChronic Pain Strategies\nMeditation\nSelf Reflection\n\nDate & Time:\nWednesday’s monthly from 6:00 pm – 7:00 pm\n\nCost:\n$45.00\n\nI understand that it can be difficult to know how you will be travelling with your pain day by day so I am happy to take bookings right up until the day of the masterclass with no limit on numbers.\n\nPlease feel free to contact me if you have any questions at info@seedofhopeyoga.com.au\n 
URL:https://seedofhopeyoga.com.au/workshops/monthly-masterclass-for-chronic-pain/2020-10-14/
CATEGORIES:Online Seminar
ATTACH;FMTTYPE=image/jpeg:https://seedofhopeyoga.com.au/wp-content/uploads/2020/08/Online-Masterclass.jpg
ORGANIZER;CN="Seed%20of%20Hope%20Yoga":MAILTO:info@seedofhopeyoga.com.au
END:VEVENT
END:VCALENDAR