BEGIN:VCALENDAR
VERSION:2.0
PRODID:-//Seed of Hope Yoga - ECPv5.3.2.1//NONSGML v1.0//EN
CALSCALE:GREGORIAN
METHOD:PUBLISH
X-WR-CALNAME:Seed of Hope Yoga
X-ORIGINAL-URL:https://seedofhopeyoga.com.au
X-WR-CALDESC:Events for Seed of Hope Yoga
BEGIN:VTIMEZONE
TZID:Australia/Sydney
BEGIN:STANDARD
TZOFFSETFROM:+1100
TZOFFSETTO:+1000
TZNAME:AEST
DTSTART:20200404T160000
END:STANDARD
BEGIN:DAYLIGHT
TZOFFSETFROM:+1000
TZOFFSETTO:+1100
TZNAME:AEDT
DTSTART:20201003T160000
END:DAYLIGHT
END:VTIMEZONE
BEGIN:VEVENT
DTSTART;TZID=Australia/Sydney:20201022T090000
DTEND;TZID=Australia/Sydney:20201022T120000
DTSTAMP:20210301T001418
CREATED:20200827T032945Z
LAST-MODIFIED:20200827T033214Z
UID:499-1603357200-1603368000@seedofhopeyoga.com.au
SUMMARY:Pain and The Brain
DESCRIPTION:Join Shona Sim for this online seminar which discusses the science of chronic pain\, as well as the latest research about the mind-body connection and pain. \nYou will learn evidence-based psychological and yoga strategies to prevent and manage chronic pain with a particular focus on the relationship between the breath and pain. \n  \nDate & Time:\nThursday 22nd October 2020 from 9:00am – 12:00pm \nCost:\n$120.00 \nSign Up:\nIf you would like to attend this course please email us:  info@seedofhopeyoga.com.au \nCancellation Policy:\nIn the event that you cancel your registration before 15th October 2020\, we will refund the online seminar payment. Absolutely no refunds will be made if you cancel your registration after this date.
URL:https://seedofhopeyoga.com.au/workshops/pain-and-the-brain-2/
CATEGORIES:Online Seminar
ATTACH;FMTTYPE=image/jpeg:https://seedofhopeyoga.com.au/wp-content/uploads/2020/08/Pain-and-the-brain_oct20.jpg
ORGANIZER;CN="Seed%20of%20Hope%20Yoga":MAILTO:info@seedofhopeyoga.com.au
END:VEVENT
END:VCALENDAR