BEGIN:VCALENDAR
VERSION:2.0
PRODID:-//Seed of Hope Yoga - ECPv5.3.2.1//NONSGML v1.0//EN
CALSCALE:GREGORIAN
METHOD:PUBLISH
X-WR-CALNAME:Seed of Hope Yoga
X-ORIGINAL-URL:https://seedofhopeyoga.com.au
X-WR-CALDESC:Events for Seed of Hope Yoga
BEGIN:VTIMEZONE
TZID:Australia/Sydney
BEGIN:STANDARD
TZOFFSETFROM:+1100
TZOFFSETTO:+1000
TZNAME:AEST
DTSTART:20200404T160000
END:STANDARD
BEGIN:DAYLIGHT
TZOFFSETFROM:+1000
TZOFFSETTO:+1100
TZNAME:AEDT
DTSTART:20201003T160000
END:DAYLIGHT
END:VTIMEZONE
BEGIN:VEVENT
DTSTART;TZID=Australia/Sydney:20200707T090000
DTEND;TZID=Australia/Sydney:20200707T120000
DTSTAMP:20210301T001301
CREATED:20200501T052528Z
LAST-MODIFIED:20200502T063442Z
UID:486-1594112400-1594123200@seedofhopeyoga.com.au
SUMMARY:Pain and The Brain
DESCRIPTION:Pain and The Brain\nJoin Shona Sim for this online seminar which discusses the science of chronic pain\, as well as the latest research in relation to the mind body connection and pain. \nYou will learn evidence based psychological and yoga strategies to prevent and manage chronic pain with a particular focus on the relationship between the breath and pain. \n  \nDate & Time:\nTuesday 7th July 2020 from 9:00am – 12:00pm \nCost:\n$120.00 \nSign Up:\nIf you would like to attend this course please email us:  info@seedofhopeyoga.com.au \nCancellation Policy:\nIn the event that you cancel your registration prior to 1st July 2020\, we will refund the online seminar payment. Absolutely no refunds will be made if you cancel your registration after this date.
URL:https://seedofhopeyoga.com.au/workshops/pain-and-the-brain/
CATEGORIES:Online Seminar
ATTACH;FMTTYPE=image/jpeg:https://seedofhopeyoga.com.au/wp-content/uploads/2020/05/Pain-and-the-brain.jpg
ORGANIZER;CN="Seed%20of%20Hope%20Yoga":MAILTO:info@seedofhopeyoga.com.au
END:VEVENT
END:VCALENDAR