BEGIN:VCALENDAR
VERSION:2.0
PRODID:-//Seed of Hope Yoga - ECPv5.3.2.1//NONSGML v1.0//EN
CALSCALE:GREGORIAN
METHOD:PUBLISH
X-WR-CALNAME:Seed of Hope Yoga
X-ORIGINAL-URL:https://seedofhopeyoga.com.au
X-WR-CALDESC:Events for Seed of Hope Yoga
BEGIN:VTIMEZONE
TZID:Australia/Sydney
BEGIN:STANDARD
TZOFFSETFROM:+1100
TZOFFSETTO:+1000
TZNAME:AEST
DTSTART:20190406T160000
END:STANDARD
BEGIN:DAYLIGHT
TZOFFSETFROM:+1000
TZOFFSETTO:+1100
TZNAME:AEDT
DTSTART:20191005T160000
END:DAYLIGHT
END:VTIMEZONE
BEGIN:VEVENT
DTSTART;TZID=Australia/Sydney:20190615T100000
DTEND;TZID=Australia/Sydney:20190615T110000
DTSTAMP:20210228T235433
CREATED:20190502T030611Z
LAST-MODIFIED:20190502T030726Z
UID:314-1560592800-1560596400@seedofhopeyoga.com.au
SUMMARY:Trikonasana for Trauma
DESCRIPTION:We are hosting a relaxing yoga class with a percentage of proceeds going to the Blue Knot Trauma Foundation. They do an amazing job supporting those who have experienced trauma\, so join me for one hour of relaxing self care for a good cause. \nAll levels and abilities welcome. \nArrive 15 minutes early to settle in and let me know of any injuries. \n$20 pp. No booking required. \nPay on the day or email info@seedofhopeyoga.com.au for direct transfer details 🙏 \nLooking forward to seeing you there !
URL:https://seedofhopeyoga.com.au/workshops/trikonasana-for-trauma/
LOCATION:Ray of Light Yoga\, 20 Cope Place\, Bulli\, NSW\, 2516\, Australia
CATEGORIES:Classes
ATTACH;FMTTYPE=image/jpeg:https://seedofhopeyoga.com.au/wp-content/uploads/2019/05/trikosana-yoga2.jpg
ORGANIZER;CN="Seed%20of%20Hope%20Yoga":MAILTO:info@seedofhopeyoga.com.au
END:VEVENT
END:VCALENDAR