BEGIN:VCALENDAR
VERSION:2.0
PRODID:-//Seed of Hope Yoga - ECPv5.3.2.1//NONSGML v1.0//EN
CALSCALE:GREGORIAN
METHOD:PUBLISH
X-WR-CALNAME:Seed of Hope Yoga
X-ORIGINAL-URL:https://seedofhopeyoga.com.au
X-WR-CALDESC:Events for Seed of Hope Yoga
BEGIN:VTIMEZONE
TZID:Australia/Sydney
BEGIN:STANDARD
TZOFFSETFROM:+1100
TZOFFSETTO:+1000
TZNAME:AEST
DTSTART:20200404T160000
END:STANDARD
BEGIN:DAYLIGHT
TZOFFSETFROM:+1000
TZOFFSETTO:+1100
TZNAME:AEDT
DTSTART:20201003T160000
END:DAYLIGHT
END:VTIMEZONE
BEGIN:VEVENT
DTSTART;TZID=Australia/Sydney:20200330T180000
DTEND;TZID=Australia/Sydney:20200330T191500
DTSTAMP:20210301T001121
CREATED:20191016T015529Z
LAST-MODIFIED:20200130T223519Z
UID:451-1585591200-1585595700@seedofhopeyoga.com.au
SUMMARY:Yoga Therapy for Pain Management - Term 1\, 2020
DESCRIPTION:A 5 week course supporting those living with chronic pain. \nDates & Time:\nMondays\, 2nd March – 30th March 2020 from 6:00pm – 7:15pm. \nIncluding:\n– How your breath affects your pain\n– Improving mobility through mindful movements\n– Focusing practices to increase pain tolerance\n– Using sound to soothe the nervous system\n– Embracing stillness to reduce pain levels \nCost:\n$195.00 (Early bird by 1st February)\n$225.00 Full fee \nSign Up:\nIf you would like to attend this course please email us:  info@seedofhopeyoga.com.au \nCancellation Policy:\nIn the event that you cancel your workshop registration prior to 24th February 2020\, we will refund the workshop payment. Absolutely no refunds will be made if you cancel your registration after this date.
URL:https://seedofhopeyoga.com.au/workshops/yoga-therapy-for-pain-management-term-1-2020/2020-03-30/
LOCATION:Ray of Light Yoga\, 20 Cope Place\, Bulli\, NSW\, 2516\, Australia
CATEGORIES:Workshops
ATTACH;FMTTYPE=image/jpeg:https://seedofhopeyoga.com.au/wp-content/uploads/2019/03/pain_management.jpg
ORGANIZER;CN="Seed%20of%20Hope%20Yoga":MAILTO:info@seedofhopeyoga.com.au
END:VEVENT
END:VCALENDAR