BEGIN:VCALENDAR
VERSION:2.0
PRODID:-//Seed of Hope Yoga - ECPv5.3.2.1//NONSGML v1.0//EN
CALSCALE:GREGORIAN
METHOD:PUBLISH
X-WR-CALNAME:Seed of Hope Yoga
X-ORIGINAL-URL:https://seedofhopeyoga.com.au
X-WR-CALDESC:Events for Seed of Hope Yoga
BEGIN:VTIMEZONE
TZID:Australia/Sydney
BEGIN:STANDARD
TZOFFSETFROM:+1100
TZOFFSETTO:+1000
TZNAME:AEST
DTSTART:20190406T160000
END:STANDARD
BEGIN:DAYLIGHT
TZOFFSETFROM:+1000
TZOFFSETTO:+1100
TZNAME:AEDT
DTSTART:20191005T160000
END:DAYLIGHT
END:VTIMEZONE
BEGIN:VEVENT
DTSTART;TZID=Australia/Sydney:20190603T180000
DTEND;TZID=Australia/Sydney:20190603T191500
DTSTAMP:20210228T235311
CREATED:20190324T161600Z
LAST-MODIFIED:20190401T233506Z
UID:288-1559584800-1559589300@seedofhopeyoga.com.au
SUMMARY:Yoga Therapy for Pain Management - 5 Week Course
DESCRIPTION:A 5 week course supporting those living with chronic pain. \nDates & Time:\nMondays\, 6th May – 3rd June 2019 from 6:00pm – 7:15pm. \nIncluding:\n– How your breath affects your pain\n– Improving mobility through mindful movements\n– Focusing practices to increase pain tolerance\n– Using sound to soothe the nervous system\n– Embracing stillness to reduce pain levels \nCost:\n$195.00 (Early bird by 22nd April)\n$225.00 Full fee \nSign Up:\nIf you would like to attend this course please email us:  info@seedofhopeyoga.com.au
URL:https://seedofhopeyoga.com.au/workshops/yoga-therapy-for-pain-management/2019-06-03/
LOCATION:Ray of Light Yoga\, 20 Cope Place\, Bulli\, NSW\, 2516\, Australia
CATEGORIES:Workshops
ATTACH;FMTTYPE=image/jpeg:https://seedofhopeyoga.com.au/wp-content/uploads/2019/03/pain_management.jpg
ORGANIZER;CN="Seed%20of%20Hope%20Yoga":MAILTO:info@seedofhopeyoga.com.au
END:VEVENT
END:VCALENDAR